BEGIN:VCALENDAR
VERSION:2.0
PRODID:-//wp-events-plugin.com//7.2.3.1//EN
TZID:Europe/Berlin
X-WR-TIMEZONE:Europe/Berlin
BEGIN:VEVENT
UID:1-1626@awo-spi.de
DTSTART;TZID=Europe/Berlin:20171108T090000
DTEND;TZID=Europe/Berlin:20171109T160000
DTSTAMP:20220928T104624Z
URL:https://awo-spi.de/seminare/alltagsbegleitung-von-menschen-mit-demenz-
 2/
SUMMARY:Alltagsbegleitung von Menschen mit Demenz
DESCRIPTION:Alltagsbegleitung von Menschen mit Demenz\n\n2-Tagesseminar fü
 r zusätzliche Betreuungskräfte\n\n\n\n1.   Tag:   Alltagbegleitung u
 nd Betreuung von Menschen mit depressivem Verhalten / Depressionen\n\n 	Fo
 rmen\, Ursachen und Symptomatik und Handlungssituationen\n 	Depression als
  sekundäre Erkrankung\n 	Praxisnahe Beispiele und Falldiskussionen zur Er
 weiterung der Handlungskompetenz\n\n&nbsp\;\n\n2.  Tag:   Demenzerkrank
 ung und Sucht\n\n 	 Grundkenntnisse über  Ursachen  und Symptome der 
  Alkohol- und Medikamentenabhängigkeit\n 	Handlungssituationen\n 	praxisn
 ahe Beispiele und Falldiskussionen zur Erweiterung der Handlungskompetenz\
 n\n\n\n\n\n&nbsp\;\n\nAnmeldung: 2017-11-08-09 Betreuungskräfte § 45 HAL
CATEGORIES:Pflege- und Altenarbeit,Seminare,Sportveranstaltungen
LOCATION:MGH - Seminarraum-3\, Zur Saaleaue 51a\, Halle/Saale\, Sachsen-Anh
 alt\, 06122\, Deutschland
GEO:51.48383;11.937160500000005
X-APPLE-STRUCTURED-LOCATION;VALUE=URI;X-ADDRESS=Zur Saaleaue 51a\, Halle/Sa
 ale\, Sachsen-Anhalt\, 06122\, Deutschland;X-APPLE-RADIUS=100;X-TITLE=MGH 
 - Seminarraum-3:geo:51.48383,11.937160500000005
END:VEVENT
BEGIN:VTIMEZONE
TZID:Europe/Berlin
X-LIC-LOCATION:Europe/Berlin
BEGIN:STANDARD
DTSTART:20171029T020000
TZOFFSETFROM:+0200
TZOFFSETTO:+0100
TZNAME:CET
END:STANDARD
END:VTIMEZONE
END:VCALENDAR