BEGIN:VCALENDAR
VERSION:2.0
PRODID:-//wp-events-plugin.com//7.2.3.1//EN
TZID:Europe/Berlin
X-WR-TIMEZONE:Europe/Berlin
BEGIN:VEVENT
UID:1-988@awo-spi.de
DTSTART;TZID=Europe/Berlin:20170613T090000
DTEND;TZID=Europe/Berlin:20170613T160000
DTSTAMP:20220928T104624Z
URL:https://awo-spi.de/seminare/cogito-ergo-sum-ich-denke-also-bin-ich-pos
 itive-interaktion-mit-menschen-mit-demenz-nach-kitwood/
SUMMARY:Cogito ergo sum- ich denke also bin ich Positive Interaktion mit Me
 nschen mit Demenz nach Kitwood
DESCRIPTION: \n\n \n\n 	Demenz : Arten und spezielle Verhaltensmuster\n 	
 herausforderndes Verhalten erkennen und adäquat reagieren können\n 	Sich
 erstellung des empathischen Prozesses nach Tom Kitwood\n 	maligne Sozialps
 ychologie als Resultat der Pflege\n 	positive Kommunikation und Interaktio
 n mit Menschen mit Demenz nach Kitwood\n\n&nbsp\;\n\n&nbsp\;\n\nAnmeldung:
  2017-06-13 Kidwood u. Demenz\n\n\n\n\n\n\n&nbsp\;\n\n\n
CATEGORIES:Pflege- und Altenarbeit,Sportveranstaltungen
LOCATION:\, \, 
GEO:51.48383;11.937160500000005
X-APPLE-STRUCTURED-LOCATION;VALUE=URI;X-ADDRESS=\, ;X-APPLE-RADIUS=100;X-TI
 TLE=:geo:51.48383,11.937160500000005
END:VEVENT
BEGIN:VTIMEZONE
TZID:Europe/Berlin
X-LIC-LOCATION:Europe/Berlin
BEGIN:DAYLIGHT
DTSTART:20170326T030000
TZOFFSETFROM:+0100
TZOFFSETTO:+0200
TZNAME:CEST
END:DAYLIGHT
END:VTIMEZONE
END:VCALENDAR