BEGIN:VCALENDAR
VERSION:2.0
PRODID:-//wp-events-plugin.com//7.2.3.1//EN
TZID:Europe/Berlin
X-WR-TIMEZONE:Europe/Berlin
BEGIN:VEVENT
UID:1-2319@awo-spi.de
DTSTART;TZID=Europe/Berlin:20190522T100000
DTEND;TZID=Europe/Berlin:20190522T160000
DTSTAMP:20220928T104624Z
URL:https://awo-spi.de/seminare/der-neue-expertenstand-beziehungsgestaltun
 g-in-der-pflege-von-menschen-mit-demenz/
SUMMARY:Der neue Expertenstand - Beziehungsgestaltung in der Pflege von Men
 schen mit Demenz
DESCRIPTION:Im Mittelpunkt dieses Expertenstands steht die Beziehungsgestal
 tung und –förderung in der Pflege von Menschen mit Demenz. Er fordert v
 on Pflegefachkräften und allen anderen tätigen Berufsgruppen eine person
 zentrierte Pflege und Betreuung von Menschen mit Demenz.\n\nGliederung:\n\
 n 	Personzentrierte Pflege\n 	Kerninhalte der Kriterien analog Pflegeproze
 ss (insbesondere Planung von individuell angepassten beziehungsfördernden
  und gestaltenden Maßnahmen\, Information\, Anleitung und Beratung)\n 	Ve
 rtiefung insbesondere zur Verstehenshypothese und Evaluation\n 	Hinweise z
 ur Umsetzung (u.a. Dokumentation im Kontext des Strukturmodells/der SIS)\n
CATEGORIES:Pflege- und Altenarbeit,Seminare,Sportveranstaltungen
LOCATION:AWO LV Sachsen-Anhalt e.V.\, Seepark 7\, Magdeburg\, Sachsen-Anhal
 t\, 39116\, Deutschland
GEO:52.1039018;11.590511699999979
X-APPLE-STRUCTURED-LOCATION;VALUE=URI;X-ADDRESS=Seepark 7\, Magdeburg\, Sac
 hsen-Anhalt\, 39116\, Deutschland;X-APPLE-RADIUS=100;X-TITLE=AWO LV Sachse
 n-Anhalt e.V.:geo:52.1039018,11.590511699999979
END:VEVENT
BEGIN:VTIMEZONE
TZID:Europe/Berlin
X-LIC-LOCATION:Europe/Berlin
BEGIN:DAYLIGHT
DTSTART:20190331T030000
TZOFFSETFROM:+0100
TZOFFSETTO:+0200
TZNAME:CEST
END:DAYLIGHT
END:VTIMEZONE
END:VCALENDAR