BEGIN:VCALENDAR
VERSION:2.0
PRODID:-//wp-events-plugin.com//7.2.3.1//EN
TZID:Europe/Berlin
X-WR-TIMEZONE:Europe/Berlin
BEGIN:VEVENT
UID:1-2307@awo-spi.de
DTSTART;TZID=Europe/Berlin:20190329T090000
DTEND;TZID=Europe/Berlin:20190517T160000
DTSTAMP:20220928T104624Z
URL:https://awo-spi.de/seminare/qualifizierung-fuer-die-anerkennung-als-pa
 edagogische-fachkraft-3/
SUMMARY:Qualifizierung für die Anerkennung als pädagogische Fachkraft
DESCRIPTION:Curriculum zur Qualifizierung gemäß § 21 Abs. 3 Nrn. 2 und 4
  KiFöG\n• Bildungsauftrag (8 UE)\n• Förderung frühkindlicher Bildun
 gsprozesse (24 UE)\n• Pädagogische Professionalität (8 UE)\n• Beobac
 htung und Dokumentation (8 UE)\n• Eltern als Partner (6 UE)\n• Gestalt
 ung von Übergängen (6 UE)\nInteressierte Fachkräfte können auch nur ei
 nzelne Tage/ Module buchen. Kosten pro Tag 80\,00 €.\nDer Kurs ist nach 
 § 8 des Bildungsfreistellungsgesetzes Sachsen-Anhalt anerkannt AZ: 207-53
 502-2018-640 vom 15.05.2018\n\nTermine: 29.03.\; 09.04.\; 15.\;16.04.\; 09
 .\;10.\; 16.\;17.05.2019\n\n&nbsp\;
CATEGORIES:Kinder- und
 Jugendarbeit,MGH-Pusteblume,Seminare,Sportveranstaltungen
LOCATION:\, \, 
GEO:51.48383;11.937160500000005
X-APPLE-STRUCTURED-LOCATION;VALUE=URI;X-ADDRESS=\, ;X-APPLE-RADIUS=100;X-TI
 TLE=:geo:51.48383,11.937160500000005
END:VEVENT
BEGIN:VTIMEZONE
TZID:Europe/Berlin
X-LIC-LOCATION:Europe/Berlin
BEGIN:STANDARD
DTSTART:20181028T020000
TZOFFSETFROM:+0200
TZOFFSETTO:+0100
TZNAME:CET
END:STANDARD
BEGIN:DAYLIGHT
DTSTART:20190331T030000
TZOFFSETFROM:+0100
TZOFFSETTO:+0200
TZNAME:CEST
END:DAYLIGHT
END:VTIMEZONE
END:VCALENDAR