BEGIN:VCALENDAR
VERSION:2.0
PRODID:-//wp-events-plugin.com//7.2.3.1//EN
TZID:Europe/Berlin
X-WR-TIMEZONE:Europe/Berlin
BEGIN:VEVENT
UID:1-2326@awo-spi.de
DTSTART;TZID=Europe/Berlin:20190913T090000
DTEND;TZID=Europe/Berlin:20191107T160000
DTSTAMP:20220928T104624Z
URL:https://awo-spi.de/seminare/qualifizierung-fuer-die-anerkennung-als-pa
 edagogische-fachkraft-4/
SUMMARY:Qualifizierung für die Anerkennung als pädagogische Fachkraft
DESCRIPTION:Curriculum zur Qualifizierung gemäß § 21 Abs. 3 Nrn. 2 und 4
  KiFöG\n• Bildungsauftrag (8 UE)\n• Förderung frühkindlicher Bildun
 gsprozesse (24 UE)\n• Pädagogische Professionalität (8 UE)\n• Beobac
 htung und Dokumentation (8 UE)\n• Eltern als Partner (6 UE)\n• Gestalt
 ung von Übergängen (6 UE)\n\nInteressierte Fachkräfte können auch nur 
 einzelne Tage/ Module buchen. Kosten pro Tag 80\,00 €.\n\nDer Kurs ist n
 ach § 8 des Bildungsfreistellungsgesetzes Sachsen-Anhalt anerkannt AZ: 20
 7-53502-2018-640 vom 15.05.2018\n\nTermine: 13.09.\, 27.09.\; 22.10.\, 23.
 10.\, 30.10.\; 05. U. 07.11.2019\n\n&nbsp\;\n\n&nbsp\;
CATEGORIES:Kinder- und
 Jugendarbeit,MGH-Pusteblume,Seminare,Sportveranstaltungen
LOCATION:MGH Pusteblume\, Zur Saaleaue 51a\, Halle\, Sachsen-Anhalt\, 06122
 \, Deutschland
GEO:51.48383;11.93716059999997
X-APPLE-STRUCTURED-LOCATION;VALUE=URI;X-ADDRESS=Zur Saaleaue 51a\, Halle\, 
 Sachsen-Anhalt\, 06122\, Deutschland;X-APPLE-RADIUS=100;X-TITLE=MGH Pusteb
 lume:geo:51.48383,11.93716059999997
END:VEVENT
BEGIN:VTIMEZONE
TZID:Europe/Berlin
X-LIC-LOCATION:Europe/Berlin
BEGIN:DAYLIGHT
DTSTART:20190331T030000
TZOFFSETFROM:+0100
TZOFFSETTO:+0200
TZNAME:CEST
END:DAYLIGHT
BEGIN:STANDARD
DTSTART:20191027T020000
TZOFFSETFROM:+0200
TZOFFSETTO:+0100
TZNAME:CET
END:STANDARD
END:VTIMEZONE
END:VCALENDAR